BEGIN:VCALENDAR
VERSION:2.0
PRODID:-//ChamberMaster//Event Calendar 2.0//EN
METHOD:PUBLISH
X-PUBLISHED-TTL:P3D
REFRESH-INTERVAL:P3D
CALSCALE:GREGORIAN
BEGIN:VEVENT
DTSTART:20230126T130000Z
DTEND:20230126T140000Z
X-MICROSOFT-CDO-ALLDAYEVENT:FALSE
SUMMARY:Business Impact Breakfast
DESCRIPTION:Business Impact Breakfast Topic: 2023 Economic Forecast\n\nDudley Carter\, Stifel Financial\n\n\n\nBreakfast Sponsored by Richwood Bank
X-ALT-DESC;FMTTYPE=text/html:Business Impact Breakfast Topic: 2023 Economic Forecast<br />\nDudley Carter\, Stifel Financial<br />\n<br />\n<strong>Breakfast Sponsored by Richwood Bank</strong>
LOCATION:Der Dutchman Restaurant & Bakery 445 S. Jefferson Ave. Plain City\, OH 43064
UID:e.1767.9918
SEQUENCE:3
DTSTAMP:20260421T202331Z
URL:https://chambermaster.unioncounty.org/events/details/business-impact-breakfast-9-22-2016-01-26-2023-9918
END:VEVENT

END:VCALENDAR
