BEGIN:VCALENDAR
VERSION:2.0
PRODID:-//ChamberMaster//Event Calendar 2.0//EN
METHOD:PUBLISH
X-PUBLISHED-TTL:P3D
REFRESH-INTERVAL:P3D
CALSCALE:GREGORIAN
BEGIN:VEVENT
DTSTART:20200123T130000Z
DTEND:20200123T140000Z
X-MICROSOFT-CDO-ALLDAYEVENT:FALSE
SUMMARY:Business Impact Breakfast
DESCRIPTION:Business Impact Breakfast Topic: 2020 Economic Forecast
X-ALT-DESC;FMTTYPE=text/html:Business Impact Breakfast Topic: 2020 Economic Forecast
LOCATION:Richwood Marketing 15 East Ottawa Street Richwood
UID:e.1767.9882
SEQUENCE:3
DTSTAMP:20260424T102744Z
URL:https://chambermaster.unioncounty.org/events/details/business-impact-breakfast-9-22-2016-01-23-2020-9882
END:VEVENT

END:VCALENDAR
