BEGIN:VCALENDAR
VERSION:2.0
PRODID:-//ChamberMaster//Event Calendar 2.0//EN
METHOD:PUBLISH
X-PUBLISHED-TTL:P3D
REFRESH-INTERVAL:P3D
CALSCALE:GREGORIAN
BEGIN:VEVENT
DTSTART:20180823T120000Z
DTEND:20180823T130000Z
X-MICROSOFT-CDO-ALLDAYEVENT:FALSE
SUMMARY:Business Impact Breakfast - 8/23/18
DESCRIPTION:Business Impact Breakfast\n\nYEA\, United Way & Avalon Theatre Updates
X-ALT-DESC;FMTTYPE=text/html:Business Impact Breakfast<br />\nYEA\, United Way &amp\; Avalon Theatre Updates
LOCATION:Marysville Police & Court Building 1250 West Fifth St. Marsyville\, OH
UID:e.1767.12745
SEQUENCE:3
DTSTAMP:20260425T152939Z
URL:https://chambermaster.unioncounty.org/events/details/business-impact-breakfast-8-23-18-12745
END:VEVENT

END:VCALENDAR
