BEGIN:VCALENDAR
VERSION:2.0
PRODID:-//ChamberMaster//Event Calendar 2.0//EN
METHOD:PUBLISH
X-PUBLISHED-TTL:P3D
REFRESH-INTERVAL:P3D
CALSCALE:GREGORIAN
BEGIN:VEVENT
DTSTART:20190307T130000Z
DTEND:20190307T140000Z
X-MICROSOFT-CDO-ALLDAYEVENT:FALSE
SUMMARY:Business Impact Breakfast 3/7/2019
DESCRIPTION:Business Impact Breakfast\n\nSpeaker Jon Melchi\n\nBIA Executive Director
X-ALT-DESC;FMTTYPE=text/html:Business Impact Breakfast<br />\nSpeaker Jon Melchi<br />\nBIA Executive Director
LOCATION:Union County Board of Elections 835 East Fifth St. Ste. A Marysville\, OH 43040
UID:e.1767.12774
SEQUENCE:3
DTSTAMP:20260425T030821Z
URL:https://chambermaster.unioncounty.org/events/details/business-impact-breakfast-3-7-2019-12774
END:VEVENT

END:VCALENDAR
