BEGIN:VCALENDAR
VERSION:2.0
PRODID:-//ChamberMaster//Event Calendar 2.0//EN
METHOD:PUBLISH
X-PUBLISHED-TTL:P3D
REFRESH-INTERVAL:P3D
CALSCALE:GREGORIAN
BEGIN:VEVENT
DTSTART:20191121T130000Z
DTEND:20191121T140000Z
X-MICROSOFT-CDO-ALLDAYEVENT:FALSE
SUMMARY:Business Impact Breakfast
DESCRIPTION:Columbus Region Economic Development Update\n\nOne1 Columbus CEO Kenny McDonald provides an update on Regional Economic Development and a look at the new 10 year strategy.
X-ALT-DESC;FMTTYPE=text/html:Columbus Region Economic Development Update<br />\nOne1 Columbus CEO Kenny McDonald provides an update on Regional Economic Development and a look at the new 10 year strategy.
LOCATION:Union Rural Electric Cooperative 15461 US-36 Marysville\, OH
UID:e.1767.12821
SEQUENCE:3
DTSTAMP:20260424T132610Z
URL:https://chambermaster.unioncounty.org/events/details/business-impact-breakfast-12821
END:VEVENT

END:VCALENDAR
