BEGIN:VCALENDAR
VERSION:2.0
PRODID:-//ChamberMaster//Event Calendar 2.0//EN
METHOD:PUBLISH
X-PUBLISHED-TTL:P3D
REFRESH-INTERVAL:P3D
CALSCALE:GREGORIAN
BEGIN:VEVENT
DTSTART:20220727T203000Z
DTEND:20220727T223000Z
X-MICROSOFT-CDO-ALLDAYEVENT:FALSE
SUMMARY:Business After Hours - PCBA
DESCRIPTION:Business After Hours\n\n4:30 - 6:30 pm\n\nSponsored by: Main Street Treasures & Pathways Financial Credit Union
X-ALT-DESC;FMTTYPE=text/html:Business After Hours<br />\n4:30 - 6:30 pm<br />\nSponsored by: Main Street Treasures &amp\; Pathways Financial Credit Union&nbsp\;
LOCATION:The Grainery 138 W Main St Plain City\, OH 43064
UID:e.1767.7495
SEQUENCE:3
DTSTAMP:20260422T044800Z
URL:https://chambermaster.unioncounty.org/events/details/business-after-hours-pcba-7495
END:VEVENT

END:VCALENDAR
