BEGIN:VCALENDAR
VERSION:2.0
PRODID:-//ChamberMaster//Event Calendar 2.0//EN
METHOD:PUBLISH
X-PUBLISHED-TTL:P3D
REFRESH-INTERVAL:P3D
CALSCALE:GREGORIAN
BEGIN:VEVENT
DTSTART:20191022T210000Z
DTEND:20191022T230000Z
X-MICROSOFT-CDO-ALLDAYEVENT:FALSE
SUMMARY:Business After Hours - Jerome Grand
DESCRIPTION:Business After Hours\n\nJerome Grand - Convenient Resort Living\n\n\n\nLight Appetizers and Drinks
X-ALT-DESC;FMTTYPE=text/html:Business After Hours<br />\nJerome Grand - Convenient Resort Living<br />\n<br />\nLight Appetizers and Drinks
LOCATION:Jerome Grand 7027 Park Mill Drive Plain City\, OH 43064
UID:e.1767.12819
SEQUENCE:3
DTSTAMP:20260424T152006Z
URL:https://chambermaster.unioncounty.org/events/details/business-after-hours-jerome-grand-12819
END:VEVENT

END:VCALENDAR
