BEGIN:VCALENDAR
VERSION:2.0
PRODID:-//ChamberMaster//Event Calendar 2.0//EN
METHOD:PUBLISH
X-PUBLISHED-TTL:P3D
REFRESH-INTERVAL:P3D
CALSCALE:GREGORIAN
BEGIN:VEVENT
DTSTART:20201026T210000Z
DTEND:20201026T230000Z
X-MICROSOFT-CDO-ALLDAYEVENT:FALSE
SUMMARY:Brookdale Marysville: Trick Or Treat
DESCRIPTION:Brookdale Marysville will be hosting an Ohio Health Department approved Trick-or-Treat Parade! Help us celebrate Halloween this year by parading around their building as residents watch from their decorated windows.\n\n \n\nAs you & your child walk around the building you can vote on your favorite decorated window!\n\n\n\nIndividual candy bags will be given at the end of the parade for kids to take home.\n\n\n\nMask & social distancing will be required.
X-ALT-DESC;FMTTYPE=text/html:<p>Brookdale Marysville will be hosting an Ohio Health Department approved Trick-or-Treat Parade! Help us celebrate Halloween this year by parading around their building as residents watch from their decorated windows.<br />\n&nbsp\;</p>\n\n<p>As you &amp\; your child walk around the building you can vote on your favorite decorated window!<br />\n<br />\nIndividual candy bags will be given at the end of the parade for kids to take home.<br />\n<br />\nMask &amp\; social distancing will be required.</p>\n
LOCATION:Brookdale Marysville Assisted Living 1565 London Avenue Marysville\, Ohio 43040
UID:e.1767.13134
SEQUENCE:3
DTSTAMP:20260423T101518Z
URL:https://chambermaster.unioncounty.org/events/details/brookdale-marysville-trick-or-treat-13134
END:VEVENT

END:VCALENDAR
