BEGIN:VCALENDAR
VERSION:2.0
PRODID:-//ChamberMaster//Event Calendar 2.0//EN
METHOD:PUBLISH
X-PUBLISHED-TTL:P3D
REFRESH-INTERVAL:P3D
CALSCALE:GREGORIAN
BEGIN:VEVENT
DTSTART:20201104T200000Z
DTEND:20201104T210000Z
X-MICROSOFT-CDO-ALLDAYEVENT:FALSE
SUMMARY:Brookdale Marysville: Rock It For Alzheimer's Fundraiser
DESCRIPTION:Brookdale Marysville Assisted Living is rocking out for a good cause this November! Join our community as we raise awareness and funds for the Alzheimer's Association by spending some time in a chair-rocking marathon. You can put the fun back into "fundraising" as you join friends and family to help put an end to Alzheimer's. \n\nSocial distancing will be recognized\n\n\n\nAll proceeds benefit the Alzheimer's Association.
X-ALT-DESC;FMTTYPE=text/html:Brookdale Marysville Assisted Living is rocking out for a good cause this November! Join our community as we raise awareness and funds for the Alzheimer&#39\;s Association by spending some time in a chair-rocking marathon. You can put the fun back into &quot\;fundraising&quot\; as you join friends and family to help put an end to Alzheimer&#39\;s.&nbsp\;<br />\nSocial distancing will be recognized<br />\n<br />\nAll proceeds benefit the Alzheimer&#39\;s Association.&nbsp\;
LOCATION:Brookdale Marysville Assisted Living 1565 London Avenue Marysville\, OH 43040
UID:e.1767.13132
SEQUENCE:3
DTSTAMP:20260423T092435Z
URL:https://chambermaster.unioncounty.org/events/details/brookdale-marysville-rock-it-for-alzheimer-s-fundraiser-13132
END:VEVENT

END:VCALENDAR
