BEGIN:VCALENDAR
VERSION:2.0
PRODID:-//ChamberMaster//Event Calendar 2.0//EN
METHOD:PUBLISH
X-PUBLISHED-TTL:P3D
REFRESH-INTERVAL:P3D
CALSCALE:GREGORIAN
BEGIN:VEVENT
DTSTART:20201015T160000Z
DTEND:20201015T170000Z
X-MICROSOFT-CDO-ALLDAYEVENT:FALSE
SUMMARY:Brookdale Marysville: Medical Ethics at the End of Life
DESCRIPTION:Brookdale Marysville's 2020 Continuing Education Series\n\n\n\nYou will discuss tools to support the resolution of medical-ethical conflicts to achieve a peaceful end to life.\n\n\n\nFollowing this presentation the participants will be able to :\n\n	Know the 4 principles of medical ethics\n	Learn common medical ethics concerns the present at the end of life\n	Discuss the roles of healthcare professionals in both the escalation and de-escalation of medical ethical concerns\n	Manage ethical conflicts when they present\n\nThe event is by reservation only. To confirm your RSVP & receive the Zoom meeting ID\, call JeanAnne: 937-553-4657
X-ALT-DESC;FMTTYPE=text/html:Brookdale Marysville&#39\;s 2020 Continuing Education Series<br />\n<br />\nYou will discuss tools to support the resolution of medical-ethical conflicts to achieve a peaceful end to life.<br />\n<br />\nFollowing this presentation the participants will be able to :\n<ul>\n	<li>Know the 4 principles of medical ethics</li>\n	<li>Learn common medical ethics concerns the present at the end of life</li>\n	<li>Discuss the roles of healthcare professionals in both the escalation and de-escalation of medical ethical concerns</li>\n	<li>Manage ethical conflicts when they present</li>\n</ul>\nThe event is by reservation only. To confirm your RSVP &amp\; receive the Zoom meeting ID\, call JeanAnne: 937-553-4657
LOCATION:Brookdale Marysville Assisted Living 1565 London Avenue Marysville\, Ohio 43040
UID:e.1767.13133
SEQUENCE:3
DTSTAMP:20260423T101654Z
URL:https://chambermaster.unioncounty.org/events/details/brookdale-marysville-medical-ethics-at-the-end-of-life-13133
END:VEVENT

END:VCALENDAR
