BEGIN:VCALENDAR
VERSION:2.0
PRODID:-//ChamberMaster//Event Calendar 2.0//EN
METHOD:PUBLISH
X-PUBLISHED-TTL:P3D
REFRESH-INTERVAL:P3D
CALSCALE:GREGORIAN
BEGIN:VEVENT
DTSTART:20200404T140000Z
DTEND:20200404T180000Z
X-MICROSOFT-CDO-ALLDAYEVENT:FALSE
SUMMARY:Big Brothers Big Sisters Bowl for Kids' Sake 2020
DESCRIPTION:Bowl for Kids' Sake has been the largest and most important annual fundraiser for Big Brothers Big Sisters of Central Ohio. The Union County office will feature our 22nd Annual Community Event on April 4\, 2020. In 2019\, we raised close to $14\,000 in important generating revenue. Our goal is to raise $20\,000 this year! Funds raised from this event have enabled us to positively impact the lives of thousands of children through quality mentoring relationships. We touch the lives of children who are most at-risk\, and inspire them to become more confident\, competent\, caring individuals in our community. Research has proven the unquestionable benefits of mentoring\, and the need of our programs continues to grow at unprecedented rate.
X-ALT-DESC;FMTTYPE=text/html:Bowl for Kids&#39\; Sake has been the largest and most important annual fundraiser for Big Brothers Big Sisters of Central Ohio. The Union County office will feature our 22nd Annual Community Event on April 4\, 2020. In 2019\, we raised close to $14\,000 in important generating revenue. Our goal is to raise $20\,000 this year! Funds raised from this event have enabled us to positively impact the lives of thousands of children through quality mentoring relationships. We touch the lives of children who are most at-risk\, and inspire them to become more confident\, competent\, caring individuals in our community. Research has proven the unquestionable benefits of mentoring\, and the need of our programs continues to grow at unprecedented rate.
LOCATION:325 S Jefferson Avenue Plain City Ohio 43064
UID:e.1767.13096
SEQUENCE:3
DTSTAMP:20260424T054717Z
URL:https://chambermaster.unioncounty.org/events/details/big-brothers-big-sisters-bowl-for-kids-sake-2020-13096
END:VEVENT

END:VCALENDAR
