BEGIN:VCALENDAR
VERSION:2.0
PRODID:-//ChamberMaster//Event Calendar 2.0//EN
METHOD:PUBLISH
X-PUBLISHED-TTL:P3D
REFRESH-INTERVAL:P3D
CALSCALE:GREGORIAN
BEGIN:VEVENT
DTSTART:20191222T000000Z
DTEND:20191222T190000Z
X-MICROSOFT-CDO-ALLDAYEVENT:FALSE
SUMMARY:Amahl & The Night Visitors - 2019
DESCRIPTION:A holiday musical experience for the whole family. The story of Amahl and his mother meeting the three wisemen on their way to visit the baby Jesus.
X-ALT-DESC;FMTTYPE=text/html:A holiday musical experience for the whole family. The story of Amahl and his mother meeting the three wisemen on their way to visit the baby Jesus.
LOCATION:St. John's Lutheran Church 12809 St Rt 736 Marysville\, Ohio 43040
UID:e.1767.13083
SEQUENCE:3
DTSTAMP:20260424T115712Z
URL:https://chambermaster.unioncounty.org/events/details/amahl-the-night-visitors-2019-13083
END:VEVENT

END:VCALENDAR
