BEGIN:VCALENDAR
VERSION:2.0
PRODID:-//ChamberMaster//Event Calendar 2.0//EN
METHOD:PUBLISH
X-PUBLISHED-TTL:P3D
REFRESH-INTERVAL:P3D
CALSCALE:GREGORIAN
BEGIN:VEVENT
DTSTART:20191108T163000Z
DTEND:20191108T180000Z
X-MICROSOFT-CDO-ALLDAYEVENT:FALSE
SUMMARY:Agricultural Association Meeting
DESCRIPTION:An Organization to promote Agricultural economic development in Union County
X-ALT-DESC;FMTTYPE=text/html:An Organization to promote Agricultural economic&nbsp\;development in Union County
LOCATION:Union County Chamber of Commerce 227 East Fifth Street Marysville
UID:e.1767.10115
SEQUENCE:3
DTSTAMP:20260424T133223Z
URL:https://chambermaster.unioncounty.org/events/details/agricultural-association-meeting-11-08-2019-10115
END:VEVENT

END:VCALENDAR
