BEGIN:VCALENDAR
VERSION:2.0
PRODID:-//ChamberMaster//Event Calendar 2.0//EN
METHOD:PUBLISH
X-PUBLISHED-TTL:P3D
REFRESH-INTERVAL:P3D
CALSCALE:GREGORIAN
BEGIN:VEVENT
DTSTART:20180209T163000Z
DTEND:20180209T180000Z
X-MICROSOFT-CDO-ALLDAYEVENT:FALSE
SUMMARY:Agricultural Association Meeting
DESCRIPTION:An Organization to promote Agricultural economic development in Union County\n\n\n\nGuest Speaker: Kathy Brown\, Emergency Planner\, Union County EMA
X-ALT-DESC;FMTTYPE=text/html:An Organization to promote Agricultural economic&nbsp\;development in Union County<br />\n<br />\nGuest Speaker: Kathy Brown\, Emergency Planner\, Union County&nbsp\;EMA
LOCATION:Union County Chamber of Commerce 227 East Fifth Street Marysville
UID:e.1767.10094
SEQUENCE:3
DTSTAMP:20260426T033155Z
URL:https://chambermaster.unioncounty.org/events/details/agricultural-association-meeting-02-09-2018-10094
END:VEVENT

END:VCALENDAR
