BEGIN:VCALENDAR
VERSION:2.0
PRODID:-//ChamberMaster//Event Calendar 2.0//EN
METHOD:PUBLISH
X-PUBLISHED-TTL:P3D
REFRESH-INTERVAL:P3D
CALSCALE:GREGORIAN
BEGIN:VEVENT
DTSTART:20180405T210000Z
DTEND:20180405T230000Z
X-MICROSOFT-CDO-ALLDAYEVENT:FALSE
SUMMARY:Adolescent Open House
DESCRIPTION:Adolescent Open House\n\nRSVP
X-ALT-DESC;FMTTYPE=text/html:Adolescent Open House<br />\nRSVP
LOCATION:6810 Perimeter Dr. Dublin OH
UID:e.1767.11698
SEQUENCE:3
DTSTAMP:20260425T220952Z
URL:https://chambermaster.unioncounty.org/events/details/adolescent-open-house-11698
END:VEVENT

END:VCALENDAR
