BEGIN:VCALENDAR
VERSION:2.0
PRODID:-//ChamberMaster//Event Calendar 2.0//EN
METHOD:PUBLISH
X-PUBLISHED-TTL:P3D
REFRESH-INTERVAL:P3D
CALSCALE:GREGORIAN
BEGIN:VEVENT
DTSTART:20230404T153000Z
DTEND:20230404T170000Z
X-MICROSOFT-CDO-ALLDAYEVENT:FALSE
SUMMARY:2023 Lunch & Learn Marketing & Social Media Workshop
DESCRIPTION:Lunch & Learn\n\n\n\nOverview of Marketing: Customer's Journey \n\n"Hands On" Help with Social Media Challenges and more!\n\n\n\nRichwood Marketing will be presenting the workshop information.\n\n\n\nSponsored by: Richwood Bank and Plain City Business Association
X-ALT-DESC;FMTTYPE=text/html:Lunch &amp\; Learn<br />\n<br />\nOverview of Marketing: Customer&#39\;s Journey&nbsp\;<br />\n&quot\;Hands On&quot\; Help with Social Media Challenges and more!<br />\n<br />\nRichwood Marketing will be presenting the workshop information.<br />\n<br />\nSponsored by: Richwood Bank and Plain City Business Association<br />\n<br />\n&nbsp\;
LOCATION:Der Dutchman Restaurant & Bakery 445 S Jefferson Ave Plain City\, OH 43064
UID:e.1767.13547
SEQUENCE:3
DTSTAMP:20260421T144226Z
URL:https://chambermaster.unioncounty.org/events/details/2023-lunch-learn-marketing-social-media-workshop-13547
END:VEVENT

END:VCALENDAR
