BEGIN:VCALENDAR
VERSION:2.0
PRODID:-//ChamberMaster//Event Calendar 2.0//EN
METHOD:PUBLISH
X-PUBLISHED-TTL:P3D
REFRESH-INTERVAL:P3D
CALSCALE:GREGORIAN
BEGIN:VEVENT
DTSTART:20230215T223000Z
DTEND:20230215T233000Z
X-MICROSOFT-CDO-ALLDAYEVENT:FALSE
SUMMARY:2023 Economic Development & Prosperity Speaker Series
DESCRIPTION:Understanding the Growth of Union County and Marysville\n\nPlease join our first event in the 2023 Economic Development & Prosperity Speaker Series. Dr. Bill Lafayette will speak about the growth in the community and the region and a panel of young professionals and business leaders will speak of their experiences in the community.
X-ALT-DESC;FMTTYPE=text/html:<h1 style="margin: 0px\; padding: 0px\; font-size: 24px\; letter-spacing: -1px\; font-family: Arial\, Helvetica\, sans-serif\;"><span style="font-size:18px\;"><span id="span_event_title">Understanding the Growth of Union County and Marysville</span></span></h1>\n\n<p style="margin: 0px 0px 18px\; padding: 0px\; font-family: Arial\, Helvetica\, sans-serif\; font-size: 12px\;">Please join our first event in the 2023 Economic Development &amp\; Prosperity Speaker Series. Dr. Bill Lafayette will speak about the growth in the community and the region and a panel of young professionals and business leaders will speak of their experiences in the community.</p>\n
LOCATION:The Avalon Theatre 121 South Main Street Marysville
UID:e.1767.13539
SEQUENCE:3
DTSTAMP:20260421T185106Z
URL:https://chambermaster.unioncounty.org/events/details/2023-economic-development-prosperity-speaker-series-13539
END:VEVENT

END:VCALENDAR
