BEGIN:VCALENDAR
VERSION:2.0
PRODID:-//ChamberMaster//Event Calendar 2.0//EN
METHOD:PUBLISH
X-PUBLISHED-TTL:P3D
REFRESH-INTERVAL:P3D
CALSCALE:GREGORIAN
BEGIN:VEVENT
DTSTART:20230628T203000Z
DTEND:20230628T223000Z
X-MICROSOFT-CDO-ALLDAYEVENT:FALSE
SUMMARY:2023 Business After Hours - Sponsored by Merchants National Bank & ServPro of Delaware
DESCRIPTION:Business After Hours\n\nSponsored by Merchants National Bank and ServPro of Delaware\n\n\n\nNostalgic Yard Games and Indoor Table Games\n\nNetworking\n\n\n\nDrinks and Food Provided
X-ALT-DESC;FMTTYPE=text/html:Business After Hours<br />\nSponsored by Merchants National Bank and ServPro of Delaware<br />\n<br />\nNostalgic Yard Games and Indoor Table Games<br />\nNetworking<br />\n<br />\nDrinks and Food Provided
LOCATION:Dalton Union Winery & Brewery 21100 Shirk Rd Marysville\, OH 43040
UID:e.1767.13552
SEQUENCE:3
DTSTAMP:20260421T115059Z
URL:https://chambermaster.unioncounty.org/events/details/2023-business-after-hours-sponsored-by-merchants-national-bank-servpro-of-delaware-13552
END:VEVENT

END:VCALENDAR
