BEGIN:VCALENDAR
VERSION:2.0
PRODID:-//ChamberMaster//Event Calendar 2.0//EN
METHOD:PUBLISH
X-PUBLISHED-TTL:P3D
REFRESH-INTERVAL:P3D
CALSCALE:GREGORIAN
BEGIN:VEVENT
DTSTART:20220420T153000Z
DTEND:20220420T170000Z
X-MICROSOFT-CDO-ALLDAYEVENT:FALSE
SUMMARY:2022 Lunch & Learn "Hands On" Digital Workshop
DESCRIPTION:Lunch & Learn\n\n"Hands On" Digital Workshop \n\n\n\nSocial Media Best Practices and Answers for Your Social Media Challenges\n\n\n\nRichwood Marketing will be presenting the workshop information.\n\n\n\nSponsored by: Richwood Bank and Plain City Business Association
X-ALT-DESC;FMTTYPE=text/html:Lunch &amp\; Learn<br />\n&quot\;Hands On&quot\; Digital Workshop&nbsp\;<br />\n<br />\nSocial Media Best Practices and Answers for Your Social Media Challenges<br />\n<br />\nRichwood Marketing will be presenting the workshop information.<br />\n<br />\nSponsored by: Richwood Bank and Plain City Business Association<br />\n<br />\n&nbsp\;
LOCATION:Der Dutchman Restaurant & Bakery 445 S Jefferson Ave Plain City\, OH 43064
UID:e.1767.13377
SEQUENCE:3
DTSTAMP:20260421T045101Z
URL:https://chambermaster.unioncounty.org/events/details/2022-lunch-learn-hands-on-digital-workshop-13377
END:VEVENT

END:VCALENDAR
