BEGIN:VCALENDAR
VERSION:2.0
PRODID:-//ChamberMaster//Event Calendar 2.0//EN
METHOD:PUBLISH
X-PUBLISHED-TTL:P3D
REFRESH-INTERVAL:P3D
CALSCALE:GREGORIAN
BEGIN:VEVENT
DTSTART:20221026T113000Z
DTEND:20221026T130000Z
X-MICROSOFT-CDO-ALLDAYEVENT:FALSE
SUMMARY:2022 Joint Business Association Meeting
DESCRIPTION:Joint Business Association Meeting\n\n\n\nJoin us for a Buffet Breakfast while learning about Chamber Benefits and Keynote Speaker\, Andrew Kingery!\n\nKeynote Topic/Speaker: Culture in the Workplace\, Andrew Kingery\, White Stone Consulting Group
X-ALT-DESC;FMTTYPE=text/html:Joint Business Association Meeting<br />\n<br />\nJoin us for a Buffet Breakfast while learning about Chamber Benefits and Keynote Speaker\, Andrew Kingery!<br />\n<strong>Keynote Topic/Speaker: Culture in the Workplace\, Andrew Kingery\, White Stone Consulting Group</strong>
LOCATION:Der Dutchman Restaurant and Bakery 445 S Jefferson Avenue Plain City\, OH 43064
UID:e.1767.13372
SEQUENCE:3
DTSTAMP:20260421T233553Z
URL:https://chambermaster.unioncounty.org/events/details/2022-joint-business-association-meeting-13372
END:VEVENT

END:VCALENDAR
