BEGIN:VCALENDAR
VERSION:2.0
PRODID:-//ChamberMaster//Event Calendar 2.0//EN
METHOD:PUBLISH
X-PUBLISHED-TTL:P3D
REFRESH-INTERVAL:P3D
CALSCALE:GREGORIAN
BEGIN:VEVENT
DTSTART;VALUE=DATE:20221013
DTEND;VALUE=DATE:20221014
TRANSP:TRANSPARENT
X-MICROSOFT-CDO-ALLDAYEVENT:TRUE
SUMMARY:2022 IPA Golf Outing at Darby Creek
DESCRIPTION:IPA Annual Golf Outing\n\nThursday\, October 13\, 2022\n\n\n\nShotgun Start - 8:30 am
X-ALT-DESC;FMTTYPE=text/html:IPA Annual Golf Outing<br />\nThursday\, October 13\, 2022<br />\n<br />\nShotgun Start - 8:30 am
LOCATION:Darby Creek Golf Course 19300 Orchard Rd Marysville\, OH 43040
UID:e.1767.13393
SEQUENCE:3
DTSTAMP:20260421T233417Z
URL:https://chambermaster.unioncounty.org/events/details/2022-ipa-golf-outing-at-darby-creek-13393
END:VEVENT

END:VCALENDAR
