BEGIN:VCALENDAR
VERSION:2.0
PRODID:-//ChamberMaster//Event Calendar 2.0//EN
METHOD:PUBLISH
X-PUBLISHED-TTL:P3D
REFRESH-INTERVAL:P3D
CALSCALE:GREGORIAN
BEGIN:VEVENT
DTSTART:20210711T170000Z
DTEND:20210711T210000Z
X-MICROSOFT-CDO-ALLDAYEVENT:FALSE
SUMMARY:2021 Union County Master GardenerTour of Gardens
DESCRIPTION:Union County in Bloom\, the 2021 Union County Master Gardener Tour of Gardens is on Sunday\, July 11 from 11 a.m. to 5 p.m. See landscaping examples of perennial flowers and vegetable gardens at residences and\n\nthe demonstration gardens at the Agricultural Center. There will be\n\neducational displays at each site.  Tickets are $8.00 presale and\n\n$10.00 the day of the tour.  For additional information call the Extension Office at (937) 644-8117 or visit the website at https://union.osu.edu  or FaceBook page at http://bit.ly/UCMGFB COVID protocols will be followed at all locations.\n\n \n\n Presale tickets for $8 available June 14 at the following Marysville locations:\n\n1.Union County Chamber of Commerce/ 227 East Fifth Street 2. Union Station (visitor center)/ 109 East Fifth Street 3.Dutch Mill Greenhouse/ 18443 St. Rt.4 4. Scheiderer Farms Greenhouse/ 13436 SR 38 5. Plumm House 116 East Fifth Street\n\n \n\nDay of Tour tickets for $10 will be available only at the Union County Ag Center\, 18000 St. Rt. 4.
X-ALT-DESC;FMTTYPE=text/html:Union County in Bloom\, the 2021 Union County Master Gardener Tour of Gardens is on Sunday\, July 11 from 11 a.m. to 5 p.m. See landscaping examples of perennial flowers and vegetable gardens at residences and<br />\nthe demonstration gardens at the Agricultural Center. There will be<br />\neducational displays at each site.&nbsp\; Tickets are $8.00 presale and<br />\n$10.00 the day of the tour.&nbsp\; For additional information call the Extension Office at (937) 644-8117 or visit the website at <a href="https://union.osu.edu">https://union.osu.edu</a>&nbsp\; or FaceBook page at <a href="http://bit.ly/UCMGFB">http://bit.ly/UCMGFB</a> COVID protocols will be followed at all locations.<br />\n&nbsp\;<br />\n&nbsp\;Presale tickets for $8 available June 14 at the following Marysville locations:<br />\n1.Union County Chamber of Commerce/ 227 East Fifth Street 2. Union Station (visitor center)/ 109 East Fifth Street 3.Dutch Mill Greenhouse/ 18443 St. Rt.4 4. Scheiderer Farms Greenhouse/ 13436 SR 38 5. Plumm House 116 East Fifth Street<br />\n&nbsp\;<br />\nDay of Tour tickets for $10 will be available only at the Union County Ag Center\, 18000 St. Rt. 4.
LOCATION:18000 St. Rt. 4\, Marysville Union County Agricultural Center
UID:e.1767.13147
SEQUENCE:3
DTSTAMP:20260422T222459Z
URL:https://chambermaster.unioncounty.org/events/details/2021-union-county-master-gardenertour-of-gardens-13147
END:VEVENT

END:VCALENDAR
