BEGIN:VCALENDAR
VERSION:2.0
PRODID:-//ChamberMaster//Event Calendar 2.0//EN
METHOD:PUBLISH
X-PUBLISHED-TTL:P3D
REFRESH-INTERVAL:P3D
CALSCALE:GREGORIAN
BEGIN:VEVENT
DTSTART:20210814T120000Z
DTEND:20210814T160000Z
X-MICROSOFT-CDO-ALLDAYEVENT:FALSE
SUMMARY:2021 Master Gardener Plant Sale
DESCRIPTION:The Union County Master Gardeners will hold their 17th annual Plant Sale on Saturday\, August 7 at the Armory Building at the Union County Fairgrounds from 8 a.m. until noon. There will be a selection of sun and shade perennials\, native plants\, shrubs and trees\, grasses\, bulbs\, and daylilies.  Plants are grown by Master Gardeners and sold at very reasonable prices. For additional information call the Extension Office at (937) 644-8117 or visit the web site at https://union.osu.edu  or FaceBook page at http://bit.ly/UCMGFB
X-ALT-DESC;FMTTYPE=text/html:The Union County Master Gardeners will hold their 17th annual Plant Sale on Saturday\, August 7 at the Armory Building at the Union County Fairgrounds from 8 a.m. until noon. There will be a selection of sun and shade perennials\, native plants\, shrubs and trees\, grasses\, bulbs\, and daylilies.&nbsp\; Plants are grown by Master Gardeners and sold at very reasonable prices. For additional information call the Extension Office at (937) 644-8117 or visit the web site at <a href="https://union.osu.edu">https://union.osu.edu</a>&nbsp\; or FaceBook page at <a href="http://bit.ly/UCMGFB">http://bit.ly/UCMGFB</a>
LOCATION:Armory Building\, Union County Fairgrounds\, 845 Main St.\, Marysville\, OH
UID:e.1767.13146
SEQUENCE:3
DTSTAMP:20260422T205820Z
URL:https://chambermaster.unioncounty.org/events/details/2021-master-gardener-plant-sale-13146
END:VEVENT

END:VCALENDAR
