BEGIN:VCALENDAR
VERSION:2.0
PRODID:-//ChamberMaster//Event Calendar 2.0//EN
METHOD:PUBLISH
X-PUBLISHED-TTL:P3D
REFRESH-INTERVAL:P3D
CALSCALE:GREGORIAN
BEGIN:VEVENT
DTSTART:20211027T113000Z
DTEND:20211027T130000Z
X-MICROSOFT-CDO-ALLDAYEVENT:FALSE
SUMMARY:2021 Joint Business Association Meeting via Zoom
DESCRIPTION:Joint Business Association Meeting - via Zoom\n\n\n\nLearn about Chamber Benefits and Keynote Speaker\, Chad Hoffman!\n\nKeynote Topic/Speaker: The Infinite Game\, Chad Hoffman\, President & CEO\, Richwood Bank\n\n\n\nThis is the link to register to attend via Zoom. This is will be listen only mode.
X-ALT-DESC;FMTTYPE=text/html:Joint Business Association Meeting - <strong>via Zoom</strong><br />\n<br />\nLearn about Chamber Benefits and Keynote Speaker\, Chad Hoffman!<br />\n<strong>Keynote Topic/Speaker: The Infinite Game\, Chad Hoffman\, President &amp\; CEO\, Richwood Bank</strong><br />\n<br />\n<em><strong>This is the link to register to attend via Zoom. This is will be listen only mode.</strong></em>
LOCATION:via Zoom (Program begins at 8:00 am)
UID:e.1767.13164
SEQUENCE:3
DTSTAMP:20260422T180040Z
URL:https://chambermaster.unioncounty.org/events/details/2021-joint-business-association-meeting-via-zoom-13164
END:VEVENT

END:VCALENDAR
