BEGIN:VCALENDAR
VERSION:2.0
PRODID:-//ChamberMaster//Event Calendar 2.0//EN
METHOD:PUBLISH
X-PUBLISHED-TTL:P3D
REFRESH-INTERVAL:P3D
CALSCALE:GREGORIAN
BEGIN:VEVENT
DTSTART:20210708T203000Z
DTEND:20210708T223000Z
X-MICROSOFT-CDO-ALLDAYEVENT:FALSE
SUMMARY:2021 Business After Hours - IPA - 1487 Brewery
DESCRIPTION:Industrial Parkway Association\n\nBusiness After Hours
X-ALT-DESC;FMTTYPE=text/html:Industrial Parkway Association<br />\nBusiness After Hours<br />\n&nbsp\;
LOCATION:1487 Brewery 7620 Industrial Parkway Plain City\, OH 43064
UID:e.1767.13154
SEQUENCE:3
DTSTAMP:20260422T222211Z
URL:https://chambermaster.unioncounty.org/events/details/2021-business-after-hours-ipa-1487-brewery-13154
END:VEVENT

END:VCALENDAR
