BEGIN:VCALENDAR
VERSION:2.0
PRODID:-//ChamberMaster//Event Calendar 2.0//EN
METHOD:PUBLISH
X-PUBLISHED-TTL:P3D
REFRESH-INTERVAL:P3D
CALSCALE:GREGORIAN
BEGIN:VEVENT
DTSTART;VALUE=DATE:20210806
DTEND;VALUE=DATE:20210807
TRANSP:TRANSPARENT
X-MICROSOFT-CDO-ALLDAYEVENT:TRUE
SUMMARY:2021 Annual Golf Tournament
DESCRIPTION:2021 Annual Chamber Golf Tournament\n\n\n\nThe Format is a Four Person Scramble \n\nSet Team Foursome - players will be assigned to the registered set team\n\nBlind Draw Foursome - players will be assigned to other teams in the Blind Draw format
X-ALT-DESC;FMTTYPE=text/html:2021 Annual Chamber Golf Tournament<br />\n<br />\nThe Format is a Four Person Scramble&nbsp\;<br />\nSet Team Foursome - players will be assigned to the registered set team<br />\nBlind Draw Foursome - players will be assigned to other teams in the Blind Draw format<br />\n<br />\n&nbsp\;
LOCATION:The Ridge Golf & Gardens 17487 Robinson Rd Marysville\, OH 43040
UID:e.1767.13152
SEQUENCE:3
DTSTAMP:20260422T205002Z
URL:https://chambermaster.unioncounty.org/events/details/2021-annual-golf-tournament-13152
END:VEVENT

END:VCALENDAR
