BEGIN:VCALENDAR
VERSION:2.0
PRODID:-//ChamberMaster//Event Calendar 2.0//EN
METHOD:PUBLISH
X-PUBLISHED-TTL:P3D
REFRESH-INTERVAL:P3D
CALSCALE:GREGORIAN
BEGIN:VEVENT
DTSTART:20201022T220000Z
DTEND:20201022T233000Z
X-MICROSOFT-CDO-ALLDAYEVENT:FALSE
SUMMARY:2020 Meet the Candidates
DESCRIPTION:Election 2020 - Meet the Candidates Night\n\n\n\nHear from Candidates for State Senate\, State Representative\, Union County Commissioners\, and Clerk of Courts
X-ALT-DESC;FMTTYPE=text/html:Election 2020 - Meet the Candidates Night<br />\n<br />\nHear from Candidates for State Senate\, State Representative\, Union County Commissioners\, and Clerk of Courts
LOCATION:Union County Veterans Auditorium 233 W 6th St Marysville\, OH 43040 LiveStream provided by Union County Daily Digital at https://boxcast.tv/view/uccoc-meet-the-candidates-968658 Social Distancing and Masks will be Required
UID:e.1767.13130
SEQUENCE:3
DTSTAMP:20260423T114759Z
URL:https://chambermaster.unioncounty.org/events/details/2020-meet-the-candidates-13130
END:VEVENT

END:VCALENDAR
