BEGIN:VCALENDAR
VERSION:2.0
PRODID:-//ChamberMaster//Event Calendar 2.0//EN
METHOD:PUBLISH
X-PUBLISHED-TTL:P3D
REFRESH-INTERVAL:P3D
CALSCALE:GREGORIAN
BEGIN:VEVENT
DTSTART:20201008T120000Z
DTEND:20201008T180000Z
X-MICROSOFT-CDO-ALLDAYEVENT:FALSE
SUMMARY:2020 IPA Golf Outing at Darby Creek
DESCRIPTION:IPA Annual Golf Outing
X-ALT-DESC;FMTTYPE=text/html:IPA Annual Golf Outing
LOCATION:Darby Creek Golf Course 19300 Orchard Rd Marysville\, OH 43040
UID:e.1767.13127
SEQUENCE:3
DTSTAMP:20260423T101202Z
URL:https://chambermaster.unioncounty.org/events/details/2020-ipa-golf-outing-at-darby-creek-13127
END:VEVENT

END:VCALENDAR
