BEGIN:VCALENDAR
VERSION:2.0
PRODID:-//ChamberMaster//Event Calendar 2.0//EN
METHOD:PUBLISH
X-PUBLISHED-TTL:P3D
REFRESH-INTERVAL:P3D
CALSCALE:GREGORIAN
BEGIN:VEVENT
DTSTART:20200929T200000Z
DTEND:20200929T210000Z
X-MICROSOFT-CDO-ALLDAYEVENT:FALSE
SUMMARY:2020 - Grow Your Network Across the Chamber
DESCRIPTION:Special Networking Event!\n\n\n\nGrowing Your Network Across the Chamber\n\n\n\nJoin us for a Zoom event with breakout rooms and opportunities to network with Business Association Members from around Union County.
X-ALT-DESC;FMTTYPE=text/html:<strong>Special Networking Event!</strong><br />\n<br />\nGrowing Your Network Across the Chamber<br />\n<br />\nJoin us for a Zoom event with breakout rooms and opportunities to network with Business Association Members from around Union County.
LOCATION:Via Zoom
UID:e.1767.13126
SEQUENCE:3
DTSTAMP:20260423T211621Z
URL:https://chambermaster.unioncounty.org/events/details/2020-grow-your-network-across-the-chamber-13126
END:VEVENT

END:VCALENDAR
