BEGIN:VCALENDAR
VERSION:2.0
PRODID:-//ChamberMaster//Event Calendar 2.0//EN
METHOD:PUBLISH
X-PUBLISHED-TTL:P3D
REFRESH-INTERVAL:P3D
CALSCALE:GREGORIAN
BEGIN:VEVENT
DTSTART:20201203T220000Z
DTEND:20201203T230000Z
X-MICROSOFT-CDO-ALLDAYEVENT:FALSE
SUMMARY:2020 Chamber's Merry Mixer - Annual Christmas Party
DESCRIPTION:A new twist this year on the Chamber's Annual Christmas Party!\n\n\n\nAttend this Merry Mixer to learn about holiday beverages and how to make unique cocktails! There are opportunities to purchase some of the drink ingredients prior to the event so you can make the drink along with the bartender\, or we will provide the recipes for you to make after the event.\n\n\n\nFeatured Cocktails include:\n\n	House Old Fashioned with Maker's Mark Select Bourbon - House of Spirits (purchase the drink kit prior to the event at https://www.eventbrite.com/e/merry-mixer-cocktail-kits-tickets-130811160703)\n	Chilly Days (with Jalapeno Vodka) - House of Spirits (purchase the drink kit prior to the event at https://www.eventbrite.com/e/merry-mixer-cocktail-kits-tickets-13081116070)\n	"Can't Stop Christmas" Cosmopolitan (a traditional Cosmo\, with a slight holiday twist)- The Grainery (purchase the drink kit prior to the event at https://www.thegraineryplaincity.com) \n	Hot Toddies - Cinnamon Cider Cranberry Wine and Dark Hot Chocolate Frontenac Shwine - Bokes Creek Winery (contact Bokes Creek at 937-358-2401 for an appointment to purchase wine)\n	Mulled Wine from Dalton Union Winery (purchase the wine and kit at www.daltonunion.com or call 937-645-5889)\n	Boston's - Salted Caramel Apple Martini\n\nWear your most festive Christmas Attire (could include ugliest sweaters!)\n\n\n\nWe will be spreading Chamber Cheer and offering Raffle Prizes!
X-ALT-DESC;FMTTYPE=text/html:A new twist this year on the Chamber&#39\;s Annual Christmas Party!<br />\n<br />\nAttend this Merry Mixer to learn about holiday beverages and how to make unique cocktails! There are opportunities to purchase some of the drink ingredients prior to the event so you can make the drink along with the bartender\, or we will provide the recipes for you to make after the event.<br />\n<br />\nFeatured Cocktails include:\n<ul>\n	<li>House Old Fashioned with Maker&#39\;s Mark Select Bourbon - House of Spirits (purchase the drink kit prior to the event at&nbsp\;<a href="https://www.eventbrite.com/e/merry-mixer-cocktail-kits-tickets-130811160703">https://www.eventbrite.com/e/merry-mixer-cocktail-kits-tickets-130811160703</a>)</li>\n	<li>Chilly Days (with Jalapeno Vodka) - House of Spirits (purchase the drink kit prior to the event at&nbsp\;<a href="https://www.eventbrite.com/e/merry-mixer-cocktail-kits-tickets-130811160703">https://www.eventbrite.com/e/merry-mixer-cocktail-kits-tickets-13081116070</a>)</li>\n	<li>&quot\;Can&#39\;t Stop Christmas&quot\; Cosmopolitan (a traditional Cosmo\, with a slight holiday twist)- The Grainery (purchase the&nbsp\;drink kit prior to the event at&nbsp\;<a href="http://www.thegraineryplaincity.com">https://www.thegraineryplaincity.com</a>)&nbsp\;</li>\n	<li>Hot Toddies - Cinnamon Cider Cranberry Wine and Dark Hot Chocolate Frontenac Shwine - Bokes Creek Winery (contact Bokes Creek at 937-358-2401 for an appointment to purchase wine)</li>\n	<li>Mulled Wine from Dalton Union Winery (purchase the wine and kit at <a href="http://www.daltonunion.com">www.daltonunion.com</a> or call 937-645-5889)</li>\n	<li>Boston&#39\;s - Salted Caramel Apple Martini</li>\n</ul>\nWear your most festive Christmas Attire (could include ugliest sweaters!)<br />\n<br />\nWe will be spreading Chamber Cheer and offering Raffle Prizes!<br />\n<br />\n<br />\n&nbsp\;
LOCATION:Virtual via Zoom
UID:e.1767.13140
SEQUENCE:3
DTSTAMP:20260423T081847Z
URL:https://chambermaster.unioncounty.org/events/details/2020-chamber-s-merry-mixer-annual-christmas-party-13140
END:VEVENT

END:VCALENDAR
