BEGIN:VCALENDAR
VERSION:2.0
PRODID:-//ChamberMaster//Event Calendar 2.0//EN
METHOD:PUBLISH
X-PUBLISHED-TTL:P3D
REFRESH-INTERVAL:P3D
CALSCALE:GREGORIAN
BEGIN:VEVENT
DTSTART:20200827T120000Z
DTEND:20200827T133000Z
X-MICROSOFT-CDO-ALLDAYEVENT:FALSE
SUMMARY:2020 Business Impact Breakfast 08.27.20
DESCRIPTION:Business Impact Breakfast\n\n33 Smart Mobility Corridor Update\n\n\n\nSpeakers from Honda\, DriveOhio\, TRC and Council of Governments
X-ALT-DESC;FMTTYPE=text/html:Business Impact Breakfast<br />\n<strong>33 Smart Mobility Corridor Update</strong><br />\n<br />\nSpeakers from Honda\, DriveOhio\, TRC and Council of Governments<br />\n<br />\n&nbsp\;
LOCATION:Memorial Health Pavilion Partners Park 125 E Sixth St\, Marysville\, OH 43040 Social Distancing and Masks will be Required OR you can participate via a Livestream You are welcome to watch the livestream of the event @ https://boxcast.tv/view/union-county-chamber-921891. The livestream will begin at 7:55 a.m. and is being made possible the Union County Daily Digital. You can also check out the Union County Daily Digital's Facebook Page for the livestream as well - https://www.facebook.com/unioncountydailydigital.
UID:e.1767.13117
SEQUENCE:3
DTSTAMP:20260423T230016Z
URL:https://chambermaster.unioncounty.org/events/details/2020-business-impact-breakfast-08-27-20-13117
END:VEVENT

END:VCALENDAR
