BEGIN:VCALENDAR
VERSION:2.0
PRODID:-//ChamberMaster//Event Calendar 2.0//EN
METHOD:PUBLISH
X-PUBLISHED-TTL:P3D
REFRESH-INTERVAL:P3D
CALSCALE:GREGORIAN
BEGIN:VEVENT
DTSTART;VALUE=DATE:20200807
DTEND;VALUE=DATE:20200808
TRANSP:TRANSPARENT
X-MICROSOFT-CDO-ALLDAYEVENT:TRUE
SUMMARY:2020 Annual Golf Tournament
DESCRIPTION:The 28th Annual Chamber Golf Tournament\n\n\n\nThe Format is a Four Person Scramble with Tee Times\n\nSet Team Foursome - players will be assigned to the registered set team\n\nBlind Draw Foursome - players will be assigned to other teams in the Blind Draw format\n\n\n\nWe will provide a safe environment with social distancing and other precautions and ask all golfers to follow the CDC social distancing guidelines.\n\n\n\nRegistration and Sponsorship Brochure
X-ALT-DESC;FMTTYPE=text/html:The 28th Annual Chamber Golf Tournament<br />\n<br />\nThe Format is a Four Person Scramble with Tee Times<br />\nSet Team Foursome - players will be assigned to the registered set team<br />\nBlind Draw Foursome - players will be assigned to other teams in the Blind Draw format<br />\n<br />\n<strong>We will provide a safe environment with social distancing and other precautions and ask all golfers to follow the CDC social distancing guidelines.<br />\n<br />\n<a href="https://chambermaster.blob.core.windows.net/userfiles/UserFiles/chambers/1767/File/Golf2020Brochure.pdf">Registration and Sponsorship Brochure</a></strong>
LOCATION:The Ridge Golf & Gardens 17487 Robinson Rd Marysville\, OH 43040 Darby Creek Golf Course 19300 Orchard Rd Marysville OH 43040
UID:e.1767.13113
SEQUENCE:3
DTSTAMP:20260423T225831Z
URL:https://chambermaster.unioncounty.org/events/details/2020-annual-golf-tournament-13113
END:VEVENT

END:VCALENDAR
