BEGIN:VCALENDAR
VERSION:2.0
PRODID:-//ChamberMaster//Event Calendar 2.0//EN
METHOD:PUBLISH
X-PUBLISHED-TTL:P3D
REFRESH-INTERVAL:P3D
CALSCALE:GREGORIAN
BEGIN:VEVENT
DTSTART:20190622T150000Z
DTEND:20190622T180000Z
X-MICROSOFT-CDO-ALLDAYEVENT:FALSE
SUMMARY:2019 Uptown Food Crawl
DESCRIPTION:Uptown Food Crawl\n\nA benefit event for Union County Guardianship Services\n\nTake a walk uptown and visit these local establishments to enjoy a sampling of their signature dishes!\n\n	Leon's Garage\n	Old Bag of Nails\n	Fifth Street Cafe\n	Fiesta Grande\n	Soda Pharm\n	The Ville Grille\n	Goodies Galore\n	The Ribbon Box\n	Whit's
X-ALT-DESC;FMTTYPE=text/html:Uptown Food Crawl<br />\nA benefit event for Union County Guardianship Services<br />\nTake a walk uptown and visit these local establishments to enjoy a sampling of their signature dishes!\n<ul>\n	<li>Leon&#39\;s Garage</li>\n	<li>Old Bag of Nails</li>\n	<li>Fifth Street Cafe</li>\n	<li>Fiesta Grande</li>\n	<li>Soda Pharm</li>\n	<li>The Ville Grille</li>\n	<li>Goodies Galore</li>\n	<li>The Ribbon Box</li>\n	<li>Whit&#39\;s</li>\n</ul>\n
LOCATION:
UID:e.1767.12806
SEQUENCE:3
DTSTAMP:20260424T233602Z
URL:https://chambermaster.unioncounty.org/events/details/2019-uptown-food-crawl-12806
END:VEVENT

END:VCALENDAR
