BEGIN:VCALENDAR
VERSION:2.0
PRODID:-//ChamberMaster//Event Calendar 2.0//EN
METHOD:PUBLISH
X-PUBLISHED-TTL:P3D
REFRESH-INTERVAL:P3D
CALSCALE:GREGORIAN
BEGIN:VEVENT
DTSTART:20190313T120000Z
DTEND:20190313T140000Z
X-MICROSOFT-CDO-ALLDAYEVENT:FALSE
SUMMARY:2019 Tourism Partners Breakfast
DESCRIPTION:Tourism Partners Breakfast\n\n\n\nJoin us as Steve Weaver\, owner of The Candle Lab (seven locations in Columbus\, Cincinnati\, and Pittsburgh)\, shares his innovative approach to growing business through experiential development.
X-ALT-DESC;FMTTYPE=text/html:Tourism Partners Breakfast<br />\n<br />\nJoin us as Steve Weaver\, owner of The Candle Lab (seven locations in Columbus\, Cincinnati\, and Pittsburgh)\, shares his innovative approach to growing business through experiential development.
LOCATION:Der Dutchman Restaurant 445 S Jefferson Avenue Plain City\, OH 43064
UID:e.1767.12773
SEQUENCE:3
DTSTAMP:20260425T030710Z
URL:https://chambermaster.unioncounty.org/events/details/2019-tourism-partners-breakfast-12773
END:VEVENT

END:VCALENDAR
