BEGIN:VCALENDAR
VERSION:2.0
PRODID:-//ChamberMaster//Event Calendar 2.0//EN
METHOD:PUBLISH
X-PUBLISHED-TTL:P3D
REFRESH-INTERVAL:P3D
CALSCALE:GREGORIAN
BEGIN:VEVENT
DTSTART:20190615T210000Z
DTEND:20190616T040000Z
X-MICROSOFT-CDO-ALLDAYEVENT:FALSE
SUMMARY:2019 Richwood Rock the Clock
DESCRIPTION:Richwood's kickoff to Summer 2019! The Temps will be opening for everyone's favorite band\, The Menus\, Saturday\, June 15th!
X-ALT-DESC;FMTTYPE=text/html:Richwood&#39\;s kickoff to Summer 2019!&nbsp\;The Temps will be opening for everyone&rsquo\;s favorite band\, The Menus\, Saturday\, June 15th!
LOCATION:Downtown Richwood
UID:e.1767.12805
SEQUENCE:3
DTSTAMP:20260424T214201Z
URL:https://chambermaster.unioncounty.org/events/details/2019-richwood-rock-the-clock-12805
END:VEVENT

END:VCALENDAR
