BEGIN:VCALENDAR
VERSION:2.0
PRODID:-//ChamberMaster//Event Calendar 2.0//EN
METHOD:PUBLISH
X-PUBLISHED-TTL:P3D
REFRESH-INTERVAL:P3D
CALSCALE:GREGORIAN
BEGIN:VEVENT
DTSTART:20190917T210000Z
DTEND:20190917T233000Z
X-MICROSOFT-CDO-ALLDAYEVENT:FALSE
SUMMARY:2019 Networking Event at The Ridge
DESCRIPTION:Networking Event at The Ridge Golf & Gardens\n\n\n\nPar 3 Challenge\, Putting Contest\, Corn Hole & Darts  - Something for Everyone!
X-ALT-DESC;FMTTYPE=text/html:Networking Event at The Ridge Golf &amp\; Gardens<br />\n<br />\nPar 3 Challenge\, Putting Contest\, Corn Hole &amp\; Darts&nbsp\; - Something for Everyone!
LOCATION:The Ridge Golf & Gardens 17487 Robinson Rd Marysville\, OH 43040
UID:e.1767.12813
SEQUENCE:3
DTSTAMP:20260424T164325Z
URL:https://chambermaster.unioncounty.org/events/details/2019-networking-event-at-the-ridge-12813
END:VEVENT

END:VCALENDAR
