BEGIN:VCALENDAR
VERSION:2.0
PRODID:-//ChamberMaster//Event Calendar 2.0//EN
METHOD:PUBLISH
X-PUBLISHED-TTL:P3D
REFRESH-INTERVAL:P3D
CALSCALE:GREGORIAN
BEGIN:VEVENT
DTSTART:20191023T113000Z
DTEND:20191023T131500Z
X-MICROSOFT-CDO-ALLDAYEVENT:FALSE
SUMMARY:2019 Joint Business Association Meeting
DESCRIPTION:Joint Business Association Meeting\n\n\n\nJoin us for a Buffet Breakfast while learning about Chamber Benefits AND how to define your culture!\n\n\n\n\n\nKeynote Speaker: Tim Coan\, "Your Business Culture"\n\n\n\nSponsorship provided by Anthem BC/BS and SOCA (Southern Ohio Chamber Alliance)
X-ALT-DESC;FMTTYPE=text/html:Joint Business Association Meeting<br />\n<br />\nJoin us for a Buffet Breakfast while learning about Chamber Benefits AND how to define your culture!<br />\n<br />\n<br />\n<strong>Keynote Speaker: Tim Coan\, &quot\;Your Business Culture&quot\;</strong><br />\n<br />\nSponsorship provided by Anthem BC/BS and SOCA (Southern Ohio Chamber Alliance)
LOCATION:Der Dutchman Restaurant and Bakery 445 S Jefferson Avenue Plain City\, OH 43064
UID:e.1767.12815
SEQUENCE:3
DTSTAMP:20260424T162835Z
URL:https://chambermaster.unioncounty.org/events/details/2019-joint-business-association-meeting-12815
END:VEVENT

END:VCALENDAR
