BEGIN:VCALENDAR
VERSION:2.0
PRODID:-//ChamberMaster//Event Calendar 2.0//EN
METHOD:PUBLISH
X-PUBLISHED-TTL:P3D
REFRESH-INTERVAL:P3D
CALSCALE:GREGORIAN
BEGIN:VEVENT
DTSTART;VALUE=DATE:20190927
DTEND;VALUE=DATE:20190930
TRANSP:TRANSPARENT
X-MICROSOFT-CDO-ALLDAYEVENT:TRUE
SUMMARY:2019 Dine on a Bridge Sponsorship
DESCRIPTION:Dine on a Bridge Sponsorship
X-ALT-DESC;FMTTYPE=text/html:Dine on a Bridge Sponsorship<br />\n&nbsp\;
LOCATION:Pottersburg Bridge 17141 Inskeep-Cratty Rd. North Lewisburg\, OH
UID:e.1767.12814
SEQUENCE:3
DTSTAMP:20260424T164458Z
URL:https://chambermaster.unioncounty.org/events/details/2019-dine-on-a-bridge-sponsorship-12814
END:VEVENT

END:VCALENDAR
