BEGIN:VCALENDAR
VERSION:2.0
PRODID:-//ChamberMaster//Event Calendar 2.0//EN
METHOD:PUBLISH
X-PUBLISHED-TTL:P3D
REFRESH-INTERVAL:P3D
CALSCALE:GREGORIAN
BEGIN:VEVENT
DTSTART:20190706T180000Z
DTEND:20190708T020000Z
X-MICROSOFT-CDO-ALLDAYEVENT:FALSE
SUMMARY:2019 DeLynn Kale Memorial Truck & Tractor Pull
DESCRIPTION:FEATURE EVENT: Championship-Level Tractor Pulling!\n\n  50/50 Drawing!\n\n  Food Vendors!\n\n  Kiddie Tractor Pulls!\n\n\n\nThese events will be held on Saturday\, July 6th\, 2019 in Richwood\, Ohio\, on the Richwood Fairgrounds. Proceeds benefit the DeLynn Kale Endowment for Lung Cancer Research in honor of DeLynn Kale\, long-time tractor puller\, business owner\, family man\, and philanthropist.\n\n Parking is FREE!!
X-ALT-DESC;FMTTYPE=text/html:FEATURE EVENT: Championship-Level Tractor Pulling!<br />\n&ndash\; 50/50 Drawing!<br />\n&ndash\; Food Vendors!<br />\n&ndash\; Kiddie Tractor Pulls!<br />\n<br />\nThese events will be held on Saturday\, July 6th\, 2019 in Richwood\, Ohio\, on the Richwood Fairgrounds. Proceeds benefit the DeLynn Kale Endowment for Lung Cancer Research in honor of DeLynn Kale\, long-time tractor puller\, business owner\, family man\, and philanthropist.<br />\n&nbsp\;Parking is FREE!!
LOCATION:Richwood Ohio Fairgrounds 1 Gill St. Richwood\, OH 43040
UID:e.1767.12810
SEQUENCE:3
DTSTAMP:20260424T200912Z
URL:https://chambermaster.unioncounty.org/events/details/2019-delynn-kale-memorial-truck-tractor-pull-12810
END:VEVENT

END:VCALENDAR
