BEGIN:VCALENDAR
VERSION:2.0
PRODID:-//ChamberMaster//Event Calendar 2.0//EN
METHOD:PUBLISH
X-PUBLISHED-TTL:P3D
REFRESH-INTERVAL:P3D
CALSCALE:GREGORIAN
BEGIN:VEVENT
DTSTART:20191205T230000Z
DTEND:20191206T010000Z
X-MICROSOFT-CDO-ALLDAYEVENT:FALSE
SUMMARY:2019 Chamber Annual Christmas Party
DESCRIPTION:Chamber Annual Christmas Party\n\n\n\nPlease join us to celebrate the Holidays!
X-ALT-DESC;FMTTYPE=text/html:Chamber Annual Christmas Party<br />\n<br />\nPlease join us to celebrate the Holidays!
LOCATION:Edgewater Place 11351 Lafayette-Plain City Rd Plain City\, OH 43064
UID:e.1767.12955
SEQUENCE:3
DTSTAMP:20260424T132810Z
URL:https://chambermaster.unioncounty.org/events/details/2019-chamber-annual-christmas-party-12955
END:VEVENT

END:VCALENDAR
