BEGIN:VCALENDAR
VERSION:2.0
PRODID:-//ChamberMaster//Event Calendar 2.0//EN
METHOD:PUBLISH
X-PUBLISHED-TTL:P3D
REFRESH-INTERVAL:P3D
CALSCALE:GREGORIAN
BEGIN:VEVENT
DTSTART:20190530T210000Z
DTEND:20190530T230000Z
X-MICROSOFT-CDO-ALLDAYEVENT:FALSE
SUMMARY:2019 Business After Hours at The Ridge Golf & Gardens
DESCRIPTION:Business After Hours\n\n\n\nNetworking\, Light Appetizers\, & Drinks
X-ALT-DESC;FMTTYPE=text/html:Business After Hours<br>\n<br>\nNetworking\, Light Appetizers\, &amp\; Drinks&nbsp\;&nbsp\;&nbsp\;&nbsp\;
LOCATION:The Ridge Golf & Gardens 17487 Robinson Rd Marysville\, OH 43040
UID:e.1767.12784
SEQUENCE:3
DTSTAMP:20260424T233906Z
URL:https://chambermaster.unioncounty.org/events/details/2019-business-after-hours-at-the-ridge-golf-gardens-12784
END:VEVENT

END:VCALENDAR
