BEGIN:VCALENDAR
VERSION:2.0
PRODID:-//ChamberMaster//Event Calendar 2.0//EN
METHOD:PUBLISH
X-PUBLISHED-TTL:P3D
REFRESH-INTERVAL:P3D
CALSCALE:GREGORIAN
BEGIN:VEVENT
DTSTART:20191212T220000Z
DTEND:20191213T000000Z
X-MICROSOFT-CDO-ALLDAYEVENT:FALSE
SUMMARY:2019 Business After Hours at MI Rentals
DESCRIPTION:Business After Hours\n\n\n\nMI Rentals is graciously hosting the Chamber and letting our members come and check out the latest in shipping container housing!\n\n\n\nNetworking\, Light Appetizers\, & Drinks
X-ALT-DESC;FMTTYPE=text/html:Business After Hours<br />\n<br />\nMI Rentals is graciously hosting the Chamber and letting our members come and check out the latest in shipping container housing!<br />\n<br />\nNetworking\, Light Appetizers\, &amp\; Drinks&nbsp\;&nbsp\;&nbsp\;&nbsp\;
LOCATION:MI Rentals 714-716 Collins Avenue Marysville\, OH 43040
UID:e.1767.13084
SEQUENCE:3
DTSTAMP:20260424T115835Z
URL:https://chambermaster.unioncounty.org/events/details/2019-business-after-hours-at-mi-rentals-13084
END:VEVENT

END:VCALENDAR
