BEGIN:VCALENDAR
VERSION:2.0
PRODID:-//ChamberMaster//Event Calendar 2.0//EN
METHOD:PUBLISH
X-PUBLISHED-TTL:P3D
REFRESH-INTERVAL:P3D
CALSCALE:GREGORIAN
BEGIN:VEVENT
DTSTART:20190725T210000Z
DTEND:20190725T230000Z
X-MICROSOFT-CDO-ALLDAYEVENT:FALSE
SUMMARY:2019 Business After Hours at Merchants National Bank
DESCRIPTION:Business After Hours\n\n\n\nNetworking\, Light Appetizers\, & Drinks
X-ALT-DESC;FMTTYPE=text/html:Business After Hours<br />\n<br />\nNetworking\, Light Appetizers\, &amp\; Drinks&nbsp\;&nbsp\;&nbsp\;&nbsp\;
LOCATION:Merchants National Bank 181 N. Colemans Crossing Blvd. Marysville\, OH 43040
UID:e.1767.12796
SEQUENCE:3
DTSTAMP:20260424T201352Z
URL:https://chambermaster.unioncounty.org/events/details/2019-business-after-hours-at-merchants-national-bank-12796
END:VEVENT

END:VCALENDAR
