BEGIN:VCALENDAR
VERSION:2.0
PRODID:-//ChamberMaster//Event Calendar 2.0//EN
METHOD:PUBLISH
X-PUBLISHED-TTL:P3D
REFRESH-INTERVAL:P3D
CALSCALE:GREGORIAN
BEGIN:VEVENT
DTSTART:20190929T150000Z
DTEND:20190929T163000Z
X-MICROSOFT-CDO-ALLDAYEVENT:FALSE
SUMMARY:2019 Breakfast on the Bridge
DESCRIPTION:Breakfast on the Bridge\n\nPancake Breakfast with Chris Cakes
X-ALT-DESC;FMTTYPE=text/html:Breakfast on the Bridge<br />\nPancake Breakfast with Chris Cakes
LOCATION:Pottersburg Bridge 17141 Inskeep-Cratty Rd. North Lewisburg\, OH
UID:e.1767.12788
SEQUENCE:3
DTSTAMP:20260424T164326Z
URL:https://chambermaster.unioncounty.org/events/details/2019-breakfast-on-the-bridge-12788
END:VEVENT

END:VCALENDAR
