BEGIN:VCALENDAR
VERSION:2.0
PRODID:-//ChamberMaster//Event Calendar 2.0//EN
METHOD:PUBLISH
X-PUBLISHED-TTL:P3D
REFRESH-INTERVAL:P3D
CALSCALE:GREGORIAN
BEGIN:VEVENT
DTSTART:20190413T140000Z
DTEND:20190413T180000Z
X-MICROSOFT-CDO-ALLDAYEVENT:FALSE
SUMMARY:2019 Bowl for Kids' Sake
DESCRIPTION:CELEBRATE EVERYDAY HEROES on APRIL 13th! Bowl for Kids Sake is a longstanding tradition in Union County and Big Brothers Big Sisters largest annual fundraiser. Join us for a fun day of bowling\, food\, drinks\, raffles\, prizes\, memories and more! \n\n\n\nThere's still time to be a sponsor! Sponsorships start at just $250 - $2\,500. \n\n\n\nRegister online & recruit a team of 4-5 to bowl. Teams are asked to raise a minimum of $200 ($50 per bowler).\n\n\n\nHave fun! Dress up as a super hero and enjoy a fun day out with your team.
X-ALT-DESC;FMTTYPE=text/html:CELEBRATE EVERYDAY HEROES on APRIL 13th! Bowl for Kids Sake is a longstanding tradition in Union County and Big Brothers Big Sisters largest annual fundraiser. Join us for a fun day of bowling\, food\, drinks\, raffles\, prizes\, memories and more!&nbsp\;<br />\n<br />\nThere&#39\;s still time to be a sponsor! Sponsorships start at just $250 - $2\,500.&nbsp\;<br />\n<br />\nRegister online &amp\; recruit a team of 4-5 to bowl. Teams are asked to raise a minimum of $200 ($50 per bowler).<br />\n<br />\nHave fun! Dress up as a super hero and enjoy a fun day out with your team.&nbsp\;
LOCATION:Dragon Lanes 1189 Columbus Avenue\, Marysville
UID:e.1767.12781
SEQUENCE:3
DTSTAMP:20260425T030812Z
URL:https://chambermaster.unioncounty.org/events/details/2019-bowl-for-kids-sake-12781
END:VEVENT

END:VCALENDAR
