BEGIN:VCALENDAR
VERSION:2.0
PRODID:-//ChamberMaster//Event Calendar 2.0//EN
METHOD:PUBLISH
X-PUBLISHED-TTL:P3D
REFRESH-INTERVAL:P3D
CALSCALE:GREGORIAN
BEGIN:VEVENT
DTSTART:20190630T123000Z
DTEND:20190630T163000Z
X-MICROSOFT-CDO-ALLDAYEVENT:FALSE
SUMMARY:2019 Blackburn Chasing the Cure: Youth Football Camp
DESCRIPTION:The 6th Annual Blackburn Chasing the Cure Youth Football Camp\n\nThe FREE camp will be offered for ages 6-13 (boys & girls)
X-ALT-DESC;FMTTYPE=text/html:The 6th Annual Blackburn Chasing the Cure Youth Football Camp<br />\nThe FREE camp will be offered for ages 6-13 (boys &amp\; girls)
LOCATION:Marysville High School Football Practice Field 800 Amrine Mill Rd. Marysville\, OH 43040
UID:e.1767.12807
SEQUENCE:3
DTSTAMP:20260424T214606Z
URL:https://chambermaster.unioncounty.org/events/details/2019-blackburn-chasing-the-cure-youth-football-camp-12807
END:VEVENT

END:VCALENDAR
