BEGIN:VCALENDAR
VERSION:2.0
PRODID:-//ChamberMaster//Event Calendar 2.0//EN
METHOD:PUBLISH
X-PUBLISHED-TTL:P3D
REFRESH-INTERVAL:P3D
CALSCALE:GREGORIAN
BEGIN:VEVENT
DTSTART;VALUE=DATE:20190628
DTEND;VALUE=DATE:20190629
TRANSP:TRANSPARENT
X-MICROSOFT-CDO-ALLDAYEVENT:TRUE
SUMMARY:2019 Blackburn Chasing the Cure: Celebrity Golf Scramble
DESCRIPTION:The 7th Annual Blackburn Chasing the Cure Celebrity Golf Scramble will be held at The Ridge Golf & Gardens in Marysville\, Ohio on Friday June 28th\, 2019. Shotgun tee-time will be at 10 AM. Rock the Ridge with the Smokin'Ham Band after dinner & awards!
X-ALT-DESC;FMTTYPE=text/html:The 7th Annual Blackburn Chasing the Cure Celebrity Golf Scramble will be held at The Ridge Golf &amp\; Gardens in Marysville\, Ohio on Friday June 28th\, 2019. Shotgun tee-time will be at 10 AM. Rock the Ridge with the Smokin&rsquo\;Ham Band after dinner &amp\; awards!
LOCATION:The Ridge Golf & Gardens 17487 Robinson Road Marysville\, OH 43040
UID:e.1767.12808
SEQUENCE:3
DTSTAMP:20260424T214330Z
URL:https://chambermaster.unioncounty.org/events/details/2019-blackburn-chasing-the-cure-celebrity-golf-scramble-12808
END:VEVENT

END:VCALENDAR
