BEGIN:VCALENDAR
VERSION:2.0
PRODID:-//ChamberMaster//Event Calendar 2.0//EN
METHOD:PUBLISH
X-PUBLISHED-TTL:P3D
REFRESH-INTERVAL:P3D
CALSCALE:GREGORIAN
BEGIN:VEVENT
DTSTART:20190629T123000Z
DTEND:20190629T123000Z
X-MICROSOFT-CDO-ALLDAYEVENT:FALSE
SUMMARY:2019 Blackburn Chasing the Cure: 5K Run/Walk & Kids Fun Run
DESCRIPTION:Join Blackburn Chasing the Cure for a fun 5K run/walk and kids fun run. Bring your family and friends to Marysville High School for a fun morning with local vendors. Blackburn Chasing the Cure is a 501(c)3 foundation supporting those battling childhood cancers and breast cancer. Runners will receive a shirt and an awesome finisher's medal. The race will be chip timed and runners can view their times online as the race is finishing.
X-ALT-DESC;FMTTYPE=text/html:Join Blackburn Chasing the Cure for a fun 5K run/walk and kids fun run. Bring your family and friends to Marysville High School for a fun morning with local vendors. Blackburn Chasing the Cure is a 501(c)3 foundation supporting those battling childhood cancers and breast cancer. Runners will receive a shirt and an awesome finisher&#39\;s medal. The race will be chip timed and runners can view their times online as the race is finishing.
LOCATION:Marysville High School 800 Amrine Mill Rd. Marysville\, OH 43040
UID:e.1767.12809
SEQUENCE:3
DTSTAMP:20260424T214340Z
URL:https://chambermaster.unioncounty.org/events/details/2019-blackburn-chasing-the-cure-5k-run-walk-kids-fun-run-12809
END:VEVENT

END:VCALENDAR
