BEGIN:VCALENDAR
VERSION:2.0
PRODID:-//ChamberMaster//Event Calendar 2.0//EN
METHOD:PUBLISH
X-PUBLISHED-TTL:P3D
REFRESH-INTERVAL:P3D
CALSCALE:GREGORIAN
BEGIN:VEVENT
DTSTART:20190928T223000Z
DTEND:20190929T000000Z
X-MICROSOFT-CDO-ALLDAYEVENT:FALSE
SUMMARY:2019 Barbecue on the Bridge
DESCRIPTION:Barbecue on the Bridge\n\nReservations Required\n\n100 seats available  \n\nNew this year! Imagine\, mouthwatering pulled pork BBQ (smoked on site) and scrumptious classic sides all served on the breathtaking Pottersburg Bridge. Live music\, rural views\, plenty of merriment and local stories.
X-ALT-DESC;FMTTYPE=text/html:Barbecue on the Bridge<br />\n<strong>Reservations Required</strong><br />\n100 seats available&nbsp\;&nbsp\;<br />\n<strong>New this year</strong>! Imagine\, mouthwatering pulled pork BBQ (smoked on site) and scrumptious classic sides all served on the breathtaking Pottersburg Bridge. Live music\, rural views\, plenty of merriment and local stories.&nbsp\;
LOCATION:Pottersburg Bridge 17141 Inskeep-Cratty Rd. North Lewisburg\, OH
UID:e.1767.12787
SEQUENCE:3
DTSTAMP:20260424T164442Z
URL:https://chambermaster.unioncounty.org/events/details/2019-barbecue-on-the-bridge-12787
END:VEVENT

END:VCALENDAR
