BEGIN:VCALENDAR
VERSION:2.0
PRODID:-//ChamberMaster//Event Calendar 2.0//EN
METHOD:PUBLISH
X-PUBLISHED-TTL:P3D
REFRESH-INTERVAL:P3D
CALSCALE:GREGORIAN
BEGIN:VEVENT
DTSTART:20190425T210000Z
DTEND:20190426T000000Z
X-MICROSOFT-CDO-ALLDAYEVENT:FALSE
SUMMARY:2019 Annual Celebration - Gearing Up for a Connected Future!
DESCRIPTION:Union County Chamber of Commerce\n\nAnnual Celebration\n\nGearing Up for a Connected Future\n\n\n\n\n\nBusiness Expo\, Networking\, Food Stations
X-ALT-DESC;FMTTYPE=text/html:<strong>Union County Chamber of Commerce<br />\nAnnual Celebration<br />\nGearing Up for a Connected Future</strong><br />\n<br />\n<br />\nBusiness Expo\, Networking\, Food Stations<br />\n<br />\n&nbsp\;
LOCATION:UCO Industries\, Inc. 16900 Square Drive Marysville\, OH 43040
UID:e.1767.12776
SEQUENCE:3
DTSTAMP:20260425T030917Z
URL:https://chambermaster.unioncounty.org/events/details/2019-annual-celebration-gearing-up-for-a-connected-future-12776
END:VEVENT

END:VCALENDAR
